BEGIN:VCALENDAR
VERSION:2.0
PRODID:-//Rien van Horik Cycling - ECPv5.16.4//NONSGML v1.0//EN
CALSCALE:GREGORIAN
METHOD:PUBLISH
X-WR-CALNAME:Rien van Horik Cycling
X-ORIGINAL-URL:https://www.rienvanhorikcycling.nl
X-WR-CALDESC:Evenementen voor Rien van Horik Cycling
BEGIN:VTIMEZONE
TZID:Europe/Amsterdam
BEGIN:DAYLIGHT
TZOFFSETFROM:+0100
TZOFFSETTO:+0200
TZNAME:CEST
DTSTART:20190331T010000
END:DAYLIGHT
BEGIN:STANDARD
TZOFFSETFROM:+0200
TZOFFSETTO:+0100
TZNAME:CET
DTSTART:20191027T010000
END:STANDARD
END:VTIMEZONE
BEGIN:VEVENT
DTSTART;TZID=Europe/Amsterdam:20190613T190000
DTEND;TZID=Europe/Amsterdam:20190613T210000
DTSTAMP:20260424T134320
CREATED:20190527T130350Z
LAST-MODIFIED:20190527T130350Z
UID:3780-1560452400-1560459600@www.rienvanhorikcycling.nl
SUMMARY:Kick-Off High Tech Crit Festival Eindhoven-Film "Wonderful losers"
DESCRIPTION:
URL:https://www.rienvanhorikcycling.nl/evenement/kick-off-high-tech-crit-festival-eindhoven-film-wonderful-losers/
END:VEVENT
END:VCALENDAR