BEGIN:VCALENDAR
VERSION:2.0
PRODID:-//Rien van Horik Cycling - ECPv5.16.4//NONSGML v1.0//EN
CALSCALE:GREGORIAN
METHOD:PUBLISH
X-WR-CALNAME:Rien van Horik Cycling
X-ORIGINAL-URL:https://www.rienvanhorikcycling.nl
X-WR-CALDESC:Evenementen voor Rien van Horik Cycling
BEGIN:VTIMEZONE
TZID:Europe/Amsterdam
BEGIN:DAYLIGHT
TZOFFSETFROM:+0100
TZOFFSETTO:+0200
TZNAME:CEST
DTSTART:20190331T010000
END:DAYLIGHT
BEGIN:STANDARD
TZOFFSETFROM:+0200
TZOFFSETTO:+0100
TZNAME:CET
DTSTART:20191027T010000
END:STANDARD
END:VTIMEZONE
BEGIN:VEVENT
DTSTART;TZID=Europe/Amsterdam:20190730T080000
DTEND;TZID=Europe/Amsterdam:20190802T170000
DTSTAMP:20260421T130601
CREATED:20181007T113054Z
LAST-MODIFIED:20181007T113054Z
UID:3292-1564473600-1564765200@www.rienvanhorikcycling.nl
SUMMARY:European Junior Cycling Tour Assen
DESCRIPTION:
URL:https://www.rienvanhorikcycling.nl/evenement/european-junior-cycling-tour-assen-2/
END:VEVENT
END:VCALENDAR