BEGIN:VCALENDAR
VERSION:2.0
PRODID:-//Rien van Horik Cycling - ECPv5.16.4//NONSGML v1.0//EN
CALSCALE:GREGORIAN
METHOD:PUBLISH
X-WR-CALNAME:Rien van Horik Cycling
X-ORIGINAL-URL:https://www.rienvanhorikcycling.nl
X-WR-CALDESC:Evenementen voor Rien van Horik Cycling
BEGIN:VTIMEZONE
TZID:Europe/Amsterdam
BEGIN:DAYLIGHT
TZOFFSETFROM:+0100
TZOFFSETTO:+0200
TZNAME:CEST
DTSTART:20190331T010000
END:DAYLIGHT
BEGIN:STANDARD
TZOFFSETFROM:+0200
TZOFFSETTO:+0100
TZNAME:CET
DTSTART:20191027T010000
END:STANDARD
END:VTIMEZONE
BEGIN:VEVENT
DTSTART;TZID=Europe/Amsterdam:20190904T080000
DTEND;TZID=Europe/Amsterdam:20190904T170000
DTSTAMP:20260421T144350
CREATED:20190711T142100Z
LAST-MODIFIED:20190711T142100Z
UID:3969-1567584000-1567616400@www.rienvanhorikcycling.nl
SUMMARY:Boels Rental Ladies Tour - Weert
DESCRIPTION:
URL:https://www.rienvanhorikcycling.nl/evenement/boels-rental-ladies-tour-weert/
END:VEVENT
END:VCALENDAR