BEGIN:VCALENDAR
VERSION:2.0
PRODID:-//Rien van Horik Cycling - ECPv5.16.4//NONSGML v1.0//EN
CALSCALE:GREGORIAN
METHOD:PUBLISH
X-WR-CALNAME:Rien van Horik Cycling
X-ORIGINAL-URL:https://www.rienvanhorikcycling.nl
X-WR-CALDESC:Evenementen voor Rien van Horik Cycling
BEGIN:VTIMEZONE
TZID:Europe/Amsterdam
BEGIN:DAYLIGHT
TZOFFSETFROM:+0100
TZOFFSETTO:+0200
TZNAME:CEST
DTSTART:20190331T010000
END:DAYLIGHT
BEGIN:STANDARD
TZOFFSETFROM:+0200
TZOFFSETTO:+0100
TZNAME:CET
DTSTART:20191027T010000
END:STANDARD
END:VTIMEZONE
BEGIN:VEVENT
DTSTART;TZID=Europe/Amsterdam:20190926T080000
DTEND;TZID=Europe/Amsterdam:20190926T170000
DTSTAMP:20260422T220057
CREATED:20190917T140720Z
LAST-MODIFIED:20190917T140720Z
UID:4195-1569484800-1569517200@www.rienvanhorikcycling.nl
SUMMARY:Teampresentatie E-Power Bakker Racing Nederweert
DESCRIPTION:
URL:https://www.rienvanhorikcycling.nl/evenement/teampresentatie-e-power-bakker-racing-nederweert/
END:VEVENT
END:VCALENDAR