BEGIN:VCALENDAR
VERSION:2.0
PRODID:-//Rien van Horik Cycling - ECPv5.16.4//NONSGML v1.0//EN
CALSCALE:GREGORIAN
METHOD:PUBLISH
X-WR-CALNAME:Rien van Horik Cycling
X-ORIGINAL-URL:https://www.rienvanhorikcycling.nl
X-WR-CALDESC:Evenementen voor Rien van Horik Cycling
BEGIN:VTIMEZONE
TZID:Europe/Amsterdam
BEGIN:DAYLIGHT
TZOFFSETFROM:+0100
TZOFFSETTO:+0200
TZNAME:CEST
DTSTART:20190331T010000
END:DAYLIGHT
BEGIN:STANDARD
TZOFFSETFROM:+0200
TZOFFSETTO:+0100
TZNAME:CET
DTSTART:20191027T010000
END:STANDARD
END:VTIMEZONE
BEGIN:VEVENT
DTSTART;TZID=Europe/Amsterdam:20191022T180000
DTEND;TZID=Europe/Amsterdam:20191022T230000
DTSTAMP:20260424T104053
CREATED:20190510T090310Z
LAST-MODIFIED:20190510T090310Z
UID:3764-1571767200-1571785200@www.rienvanhorikcycling.nl
SUMMARY:Kiremko Nacht van Woerden
DESCRIPTION:
URL:https://www.rienvanhorikcycling.nl/evenement/kiremko-nacht-van-woerden-3/
END:VEVENT
END:VCALENDAR