BEGIN:VCALENDAR
VERSION:2.0
PRODID:-//Rien van Horik Cycling - ECPv5.16.4//NONSGML v1.0//EN
CALSCALE:GREGORIAN
METHOD:PUBLISH
X-WR-CALNAME:Rien van Horik Cycling
X-ORIGINAL-URL:https://www.rienvanhorikcycling.nl
X-WR-CALDESC:Evenementen voor Rien van Horik Cycling
BEGIN:VTIMEZONE
TZID:Europe/Amsterdam
BEGIN:DAYLIGHT
TZOFFSETFROM:+0100
TZOFFSETTO:+0200
TZNAME:CEST
DTSTART:20200329T010000
END:DAYLIGHT
BEGIN:STANDARD
TZOFFSETFROM:+0200
TZOFFSETTO:+0100
TZNAME:CET
DTSTART:20201025T010000
END:STANDARD
END:VTIMEZONE
BEGIN:VEVENT
DTSTART;TZID=Europe/Amsterdam:20201101T080000
DTEND;TZID=Europe/Amsterdam:20201101T170000
DTSTAMP:20260421T114328
CREATED:20200813T163058Z
LAST-MODIFIED:20201015T161804Z
UID:5901-1604217600-1604250000@www.rienvanhorikcycling.nl
SUMMARY:Cyclocross Heeswijk-Dinther (AFGELAST)
DESCRIPTION:
URL:https://www.rienvanhorikcycling.nl/evenement/cyclocross-heeswijk-dinther-2/
END:VEVENT
END:VCALENDAR