BEGIN:VCALENDAR
VERSION:2.0
PRODID:-//Rien van Horik Cycling - ECPv5.16.4//NONSGML v1.0//EN
CALSCALE:GREGORIAN
METHOD:PUBLISH
X-WR-CALNAME:Rien van Horik Cycling
X-ORIGINAL-URL:https://www.rienvanhorikcycling.nl
X-WR-CALDESC:Evenementen voor Rien van Horik Cycling
BEGIN:VTIMEZONE
TZID:Europe/Amsterdam
BEGIN:DAYLIGHT
TZOFFSETFROM:+0100
TZOFFSETTO:+0200
TZNAME:CEST
DTSTART:20230326T010000
END:DAYLIGHT
BEGIN:STANDARD
TZOFFSETFROM:+0200
TZOFFSETTO:+0100
TZNAME:CET
DTSTART:20231029T010000
END:STANDARD
END:VTIMEZONE
BEGIN:VEVENT
DTSTART;TZID=Europe/Amsterdam:20231223T080000
DTEND;TZID=Europe/Amsterdam:20231223T170000
DTSTAMP:20260419T141022
CREATED:20231016T145932Z
LAST-MODIFIED:20231016T145932Z
UID:7704-1703318400-1703350800@www.rienvanhorikcycling.nl
SUMMARY:Jos van der Vleuten cross (jeugd) Helmond
DESCRIPTION:
URL:https://www.rienvanhorikcycling.nl/evenement/jos-van-der-vleuten-cross-jeugd-helmond/
END:VEVENT
END:VCALENDAR