BEGIN:VCALENDAR
VERSION:2.0
PRODID:-//Rien van Horik Cycling - ECPv5.16.4//NONSGML v1.0//EN
CALSCALE:GREGORIAN
METHOD:PUBLISH
X-WR-CALNAME:Rien van Horik Cycling
X-ORIGINAL-URL:https://www.rienvanhorikcycling.nl
X-WR-CALDESC:Evenementen voor Rien van Horik Cycling
BEGIN:VTIMEZONE
TZID:Europe/Amsterdam
BEGIN:DAYLIGHT
TZOFFSETFROM:+0100
TZOFFSETTO:+0200
TZNAME:CEST
DTSTART:20240331T010000
END:DAYLIGHT
BEGIN:STANDARD
TZOFFSETFROM:+0200
TZOFFSETTO:+0100
TZNAME:CET
DTSTART:20241027T010000
END:STANDARD
END:VTIMEZONE
BEGIN:VEVENT
DTSTART;TZID=Europe/Amsterdam:20240824T080000
DTEND;TZID=Europe/Amsterdam:20240824T170000
DTSTAMP:20260419T150921
CREATED:20230925T213419Z
LAST-MODIFIED:20240307T113357Z
UID:7661-1724486400-1724518800@www.rienvanhorikcycling.nl
SUMMARY:Ronde van Hapert
DESCRIPTION:
URL:https://www.rienvanhorikcycling.nl/evenement/kermisronde-van-hapert-3/
END:VEVENT
END:VCALENDAR