BEGIN:VCALENDAR
VERSION:2.0
PRODID:-//Rien van Horik Cycling - ECPv5.16.4//NONSGML v1.0//EN
CALSCALE:GREGORIAN
METHOD:PUBLISH
X-WR-CALNAME:Rien van Horik Cycling
X-ORIGINAL-URL:https://www.rienvanhorikcycling.nl
X-WR-CALDESC:Evenementen voor Rien van Horik Cycling
BEGIN:VTIMEZONE
TZID:Europe/Amsterdam
BEGIN:DAYLIGHT
TZOFFSETFROM:+0100
TZOFFSETTO:+0200
TZNAME:CEST
DTSTART:20190331T010000
END:DAYLIGHT
BEGIN:STANDARD
TZOFFSETFROM:+0200
TZOFFSETTO:+0100
TZNAME:CET
DTSTART:20191027T010000
END:STANDARD
END:VTIMEZONE
BEGIN:VEVENT
DTSTART;TZID=Europe/Amsterdam:20190606T190000
DTEND;TZID=Europe/Amsterdam:20190606T203000
DTSTAMP:20260421T185149
CREATED:20190507T104949Z
LAST-MODIFIED:20190507T104949Z
UID:3748-1559847600-1559853000@www.rienvanhorikcycling.nl
SUMMARY:Kick-Off Omloop Der Zeven Heuvelen-Nijmegen
DESCRIPTION:
URL:https://www.rienvanhorikcycling.nl/evenement/kick-off-omloop-der-zeven-heuvelen-nijmegen/
END:VEVENT
END:VCALENDAR