BEGIN:VCALENDAR
VERSION:2.0
PRODID:-//Rien van Horik Cycling - ECPv5.16.4//NONSGML v1.0//EN
CALSCALE:GREGORIAN
METHOD:PUBLISH
X-WR-CALNAME:Rien van Horik Cycling
X-ORIGINAL-URL:https://www.rienvanhorikcycling.nl
X-WR-CALDESC:Evenementen voor Rien van Horik Cycling
BEGIN:VTIMEZONE
TZID:Europe/Amsterdam
BEGIN:DAYLIGHT
TZOFFSETFROM:+0100
TZOFFSETTO:+0200
TZNAME:CEST
DTSTART:20170326T010000
END:DAYLIGHT
BEGIN:STANDARD
TZOFFSETFROM:+0200
TZOFFSETTO:+0100
TZNAME:CET
DTSTART:20171029T010000
END:STANDARD
END:VTIMEZONE
BEGIN:VEVENT
DTSTART;TZID=Europe/Amsterdam:20170828T080000
DTEND;TZID=Europe/Amsterdam:20170828T170000
DTSTAMP:20260419T143147
CREATED:20170806T085359Z
LAST-MODIFIED:20170806T085359Z
UID:1398-1503907200-1503939600@www.rienvanhorikcycling.nl
SUMMARY:Ploegenpresentatie Boels Ladies Tour- Wageningen
DESCRIPTION:
URL:https://www.rienvanhorikcycling.nl/evenement/ploegenpresentatie-boels-ladies-tour-wageningen/
END:VEVENT
END:VCALENDAR