BEGIN:VCALENDAR
VERSION:2.0
PRODID:-//Rien van Horik Cycling - ECPv5.16.4//NONSGML v1.0//EN
CALSCALE:GREGORIAN
METHOD:PUBLISH
X-WR-CALNAME:Rien van Horik Cycling
X-ORIGINAL-URL:https://www.rienvanhorikcycling.nl
X-WR-CALDESC:Evenementen voor Rien van Horik Cycling
BEGIN:VTIMEZONE
TZID:Europe/Amsterdam
BEGIN:DAYLIGHT
TZOFFSETFROM:+0100
TZOFFSETTO:+0200
TZNAME:CEST
DTSTART:20220327T010000
END:DAYLIGHT
BEGIN:STANDARD
TZOFFSETFROM:+0200
TZOFFSETTO:+0100
TZNAME:CET
DTSTART:20221030T010000
END:STANDARD
END:VTIMEZONE
BEGIN:VEVENT
DTSTART;TZID=Europe/Amsterdam:20220920T080000
DTEND;TZID=Europe/Amsterdam:20220920T170000
DTSTAMP:20260421T144653
CREATED:20220922T133628Z
LAST-MODIFIED:20220922T133628Z
UID:7124-1663660800-1663693200@www.rienvanhorikcycling.nl
SUMMARY:Prinsjesdag Thema "Tour de Frans" Prinsengarde De Meerpoel Someren
DESCRIPTION:
URL:https://www.rienvanhorikcycling.nl/evenement/prinsjesdag-thema-tour-de-frans-prinsengarde-de-meerpoel-someren/
END:VEVENT
END:VCALENDAR