BEGIN:VCALENDAR
VERSION:2.0
PRODID:-//Rien van Horik Cycling - ECPv5.16.4//NONSGML v1.0//EN
CALSCALE:GREGORIAN
METHOD:PUBLISH
X-WR-CALNAME:Rien van Horik Cycling
X-ORIGINAL-URL:https://www.rienvanhorikcycling.nl
X-WR-CALDESC:Evenementen voor Rien van Horik Cycling
BEGIN:VTIMEZONE
TZID:Europe/Amsterdam
BEGIN:DAYLIGHT
TZOFFSETFROM:+0100
TZOFFSETTO:+0200
TZNAME:CEST
DTSTART:20170326T010000
END:DAYLIGHT
BEGIN:STANDARD
TZOFFSETFROM:+0200
TZOFFSETTO:+0100
TZNAME:CET
DTSTART:20171029T010000
END:STANDARD
END:VTIMEZONE
BEGIN:VEVENT
DTSTART;TZID=Europe/Amsterdam:20170324T080000
DTEND;TZID=Europe/Amsterdam:20170324T080000
DTSTAMP:20260422T132324
CREATED:20170316T164943Z
LAST-MODIFIED:20170316T165026Z
UID:217-1490342400-1490342400@www.rienvanhorikcycling.nl
SUMMARY:WielerPubQuiz Wielermonumenten Velosoof Eindhoven
DESCRIPTION:Velosoof\, Eindhoven
URL:https://www.rienvanhorikcycling.nl/evenement/wielerpubquiz-wielermonumenten-velosoof/
END:VEVENT
END:VCALENDAR